BEGIN:VCALENDAR
VERSION:2.0
PRODID:-//G2G Consulting - ECPv6.8.1//NONSGML v1.0//EN
CALSCALE:GREGORIAN
METHOD:PUBLISH
X-WR-CALNAME:G2G Consulting
X-ORIGINAL-URL:https://www.g2gconsulting.com
X-WR-CALDESC:Events for G2G Consulting
REFRESH-INTERVAL;VALUE=DURATION:PT1H
X-Robots-Tag:noindex
X-PUBLISHED-TTL:PT1H
BEGIN:VTIMEZONE
TZID:America/New_York
BEGIN:DAYLIGHT
TZOFFSETFROM:-0500
TZOFFSETTO:-0400
TZNAME:EDT
DTSTART:20260308T070000
END:DAYLIGHT
BEGIN:STANDARD
TZOFFSETFROM:-0400
TZOFFSETTO:-0500
TZNAME:EST
DTSTART:20261101T060000
END:STANDARD
END:VTIMEZONE
BEGIN:VEVENT
DTSTART;TZID=America/New_York:20260217T130000
DTEND;TZID=America/New_York:20260217T130000
DTSTAMP:20260421T131656
CREATED:20260128T214253Z
LAST-MODIFIED:20260130T144346Z
UID:10000394-1771333200-1771333200@www.g2gconsulting.com
SUMMARY:Censoring Women's Health: How AI is Shaping Access & Education
DESCRIPTION:Ever search for a health condition and get little to no information or inaccurate information? Ever post on social media on sexual health topics and get buried or removed\, or seek advice and see an automated decision system cause harm? With digital platforms serving as the primary source of information\, access and an increasing role in healthcare delivery\, AI and algorithms are shaping our health. Producing false information or suppressing accurate data across advertising\, education\, health and journalism impacts consumers\, patients\, caregivers\, innovators\, businesses and our economy. Now is the time to show what is happening\, where regulatory and legal enforcement is needed\, and how policy change can address these inequities. \n\nWelcome by Liz Powell\, Esq.\, MPH – G2G & Women’s Health Advocates\nGeri Stengel – Forbes\nPriyanka Jain – Evvy\nMia Keeys\, DrPH\, MA – Hologic\nJackie Rotman – Center for Intimacy Justice\nModerator: Kait Tucson – Hello Hello\n\nSponsored by: Women’s Health Advocates\, FemTech Insider\, G2G Consulting
URL:https://www.g2gconsulting.com/event/censoring-womens-health-how-ai-is-shaping-access-education/
LOCATION:Virtual Webinar
CATEGORIES:Women's Health
END:VEVENT
END:VCALENDAR